BEGIN:VCALENDAR
VERSION:2.0
PRODID:-//Timber Lakes - ECPv6.15.20//NONSGML v1.0//EN
CALSCALE:GREGORIAN
METHOD:PUBLISH
X-ORIGINAL-URL:https://timberlakesutah.com
X-WR-CALDESC:Events for Timber Lakes
REFRESH-INTERVAL;VALUE=DURATION:PT1H
X-Robots-Tag:noindex
X-PUBLISHED-TTL:PT1H
BEGIN:VTIMEZONE
TZID:America/Denver
BEGIN:DAYLIGHT
TZOFFSETFROM:-0700
TZOFFSETTO:-0600
TZNAME:MDT
DTSTART:20230312T090000
END:DAYLIGHT
BEGIN:STANDARD
TZOFFSETFROM:-0600
TZOFFSETTO:-0700
TZNAME:MST
DTSTART:20231105T080000
END:STANDARD
BEGIN:DAYLIGHT
TZOFFSETFROM:-0700
TZOFFSETTO:-0600
TZNAME:MDT
DTSTART:20240310T090000
END:DAYLIGHT
BEGIN:STANDARD
TZOFFSETFROM:-0600
TZOFFSETTO:-0700
TZNAME:MST
DTSTART:20241103T080000
END:STANDARD
BEGIN:DAYLIGHT
TZOFFSETFROM:-0700
TZOFFSETTO:-0600
TZNAME:MDT
DTSTART:20250309T090000
END:DAYLIGHT
BEGIN:STANDARD
TZOFFSETFROM:-0600
TZOFFSETTO:-0700
TZNAME:MST
DTSTART:20251102T080000
END:STANDARD
END:VTIMEZONE
BEGIN:VEVENT
DTSTART;TZID=America/Denver:20240601T080000
DTEND;TZID=America/Denver:20240601T130000
DTSTAMP:20260420T042735
CREATED:20240517T002840Z
LAST-MODIFIED:20240517T002840Z
UID:19323-1717228800-1717246800@timberlakesutah.com
SUMMARY:Wood Chip Loading Day
DESCRIPTION:Road crew members will be at the chip pile to load your pickups\, trailers\, or dump trucks. Please call the the office if you have any questions. (435) 200-9888
URL:https://timberlakesutah.com/events/wood-chip-loading-day/
END:VEVENT
BEGIN:VEVENT
DTSTART;TZID=America/Denver:20240608T090000
DTEND;TZID=America/Denver:20240608T130000
DTSTAMP:20260420T042735
CREATED:20240517T003835Z
LAST-MODIFIED:20240517T003835Z
UID:19328-1717837200-1717851600@timberlakesutah.com
SUMMARY:Timber Lakes Community Yard Sale
DESCRIPTION:Spaces are first come\, first served. Rain or shine. You must take your left over items back home. Please have cash for making purchases or change. Online transactions will not likely work due to poor phone reception in the area.\nNO DISPOSAL IN OUR DUMPSTERS.\nOne or two trailers will be available at 1 PM for items you want taken to the landfill for $20 per household. No dangerous materials or tires. We will take appliances.
URL:https://timberlakesutah.com/events/timber-lakes-community-yard-sale/
LOCATION:Lower Parking Lot by Package Shed
END:VEVENT
BEGIN:VEVENT
DTSTART;TZID=America/Denver:20240611T080000
DTEND;TZID=America/Denver:20240611T120000
DTSTAMP:20260420T042735
CREATED:20240610T154648Z
LAST-MODIFIED:20240610T154648Z
UID:19423-1718092800-1718107200@timberlakesutah.com
SUMMARY:Mag Chloride Application
DESCRIPTION:Blue Spruce and Timber Lakes Drive. Try to avoid these roads. If you have to use them\, keep your speed at at maximum of 5 mph to avoid splashing the mag chloride onto your vehicle.
URL:https://timberlakesutah.com/events/mag-chloride-application/
END:VEVENT
BEGIN:VEVENT
DTSTART;TZID=America/Denver:20240615T090000
DTEND;TZID=America/Denver:20240616T120000
DTSTAMP:20260420T042735
CREATED:20240613T200458Z
LAST-MODIFIED:20240613T200458Z
UID:19462-1718442000-1718539200@timberlakesutah.com
SUMMARY:Coyote Gulch MTB Volunteers Needed
DESCRIPTION:This could be our final community volunteer weekend to finish the work needed on the Coyote Gulch MTB trail project. We’ll be up there with tools from 9:00-12:00 both days (Saturday and Sunday). A small section is all that is left of the new trail to groom. Once the new section is finished there is some touch up on the old top section needed\, mostly just trimming branches.
URL:https://timberlakesutah.com/events/coyote-gulch-mtb-volunteers-needed/
END:VEVENT
BEGIN:VEVENT
DTSTART;TZID=America/Denver:20240619T190000
DTEND;TZID=America/Denver:20240619T210000
DTSTAMP:20260420T042735
CREATED:20231116T180449Z
LAST-MODIFIED:20231116T180449Z
UID:18941-1718823600-1718830800@timberlakesutah.com
SUMMARY:TLPOA Board Meeting
DESCRIPTION:Owners are invited to attend the public portion of the meeting via Zoom\, starting at 7 pm.
URL:https://timberlakesutah.com/events/tlpoa-board-meeting-21/
END:VEVENT
BEGIN:VEVENT
DTSTART;TZID=America/Denver:20240626T053000
DTEND;TZID=America/Denver:20240626T080000
DTSTAMP:20260420T042735
CREATED:20240624T224547Z
LAST-MODIFIED:20240624T224726Z
UID:19489-1719379800-1719388800@timberlakesutah.com
SUMMARY:Log Arch Entrance Removal
DESCRIPTION:We are planning to remove the arch at the entrance this Wednesday early morning. We plan to start between 5:30 and 6:00 in the morning before we have too much traffic in the area. We don’t plan to block the exit except for equipment relocation and for any unforeseen issues\, but will keep blockage to a minimum. Thank you for your understanding of any delays this may cause\, but we will work as quickly as we can.
URL:https://timberlakesutah.com/events/log-arch-entrance-removal/
END:VEVENT
BEGIN:VEVENT
DTSTART;VALUE=DATE:20240629
DTEND;VALUE=DATE:20240630
DTSTAMP:20260420T042735
CREATED:20240514T184810Z
LAST-MODIFIED:20240514T184810Z
UID:19292-1719619200-1719705599@timberlakesutah.com
SUMMARY:Annual Timber Lakes Arts Festival
DESCRIPTION:If you are interested in being a vendor\, please text Laura at (847) 849-3733.
URL:https://timberlakesutah.com/events/annual-timber-lakes-arts-festival/
END:VEVENT
END:VCALENDAR