BEGIN:VCALENDAR
VERSION:2.0
PRODID:-//Timber Lakes - ECPv6.15.20//NONSGML v1.0//EN
CALSCALE:GREGORIAN
METHOD:PUBLISH
X-WR-CALNAME:Timber Lakes
X-ORIGINAL-URL:https://timberlakesutah.com
X-WR-CALDESC:Events for Timber Lakes
REFRESH-INTERVAL;VALUE=DURATION:PT1H
X-Robots-Tag:noindex
X-PUBLISHED-TTL:PT1H
BEGIN:VTIMEZONE
TZID:America/Denver
BEGIN:DAYLIGHT
TZOFFSETFROM:-0700
TZOFFSETTO:-0600
TZNAME:MDT
DTSTART:20230312T090000
END:DAYLIGHT
BEGIN:STANDARD
TZOFFSETFROM:-0600
TZOFFSETTO:-0700
TZNAME:MST
DTSTART:20231105T080000
END:STANDARD
BEGIN:DAYLIGHT
TZOFFSETFROM:-0700
TZOFFSETTO:-0600
TZNAME:MDT
DTSTART:20240310T090000
END:DAYLIGHT
BEGIN:STANDARD
TZOFFSETFROM:-0600
TZOFFSETTO:-0700
TZNAME:MST
DTSTART:20241103T080000
END:STANDARD
BEGIN:DAYLIGHT
TZOFFSETFROM:-0700
TZOFFSETTO:-0600
TZNAME:MDT
DTSTART:20250309T090000
END:DAYLIGHT
BEGIN:STANDARD
TZOFFSETFROM:-0600
TZOFFSETTO:-0700
TZNAME:MST
DTSTART:20251102T080000
END:STANDARD
END:VTIMEZONE
BEGIN:VEVENT
DTSTART;VALUE=DATE:20240407
DTEND;VALUE=DATE:20240408
DTSTAMP:20260420T022809
CREATED:20240325T233055Z
LAST-MODIFIED:20240325T233055Z
UID:19180-1712448000-1712534399@timberlakesutah.com
SUMMARY:Last Day Snowmobile Gate Will Be Open
DESCRIPTION:April 7\, 2024 is the tentative last day for the snowmobile gate to be open. The actual closing date depends on the snow remaining on the access roads to the gate. If the snow on the access roads melts off before then the gate will be closed earlier.
URL:https://timberlakesutah.com/events/last-day-snowmobile-gate-will-be-open/
END:VEVENT
BEGIN:VEVENT
DTSTART;TZID=America/Denver:20240409T090000
DTEND;TZID=America/Denver:20240409T160000
DTSTAMP:20260420T022809
CREATED:20240405T215511Z
LAST-MODIFIED:20240405T220152Z
UID:19195-1712653200-1712678400@timberlakesutah.com
SUMMARY:Kids Clay Pot Contest
DESCRIPTION:Clay Flower Pots for Mother’s Day.\nStarting April 9\, pick up your clay pot at the office\, take it home and color it. Bring it back to the office by April 26. Pots will be displayed. Best 3 pots will win a prize. Pick up your pot on May 10 from 9 to 3 and your pot will be filled with a flower for mom!
URL:https://timberlakesutah.com/events/kids-clay-pot-contest/
END:VEVENT
BEGIN:VEVENT
DTSTART;TZID=America/Denver:20240417T190000
DTEND;TZID=America/Denver:20240417T210000
DTSTAMP:20260420T022809
CREATED:20231116T180321Z
LAST-MODIFIED:20231116T180321Z
UID:18937-1713380400-1713387600@timberlakesutah.com
SUMMARY:TLPOA Board Meeting
DESCRIPTION:Owners are invited to attend the public portion of the meeting via Zoom\, starting at 7 pm.
URL:https://timberlakesutah.com/events/tlpoa-board-meeting-19/
END:VEVENT
BEGIN:VEVENT
DTSTART;TZID=America/Denver:20240426T090000
DTEND;TZID=America/Denver:20240426T160000
DTSTAMP:20260420T022809
CREATED:20240405T215708Z
LAST-MODIFIED:20240405T220228Z
UID:19201-1714122000-1714147200@timberlakesutah.com
SUMMARY:Kids Clay Pot Contest
DESCRIPTION:Clay Flower Pots for Mother’s Day.\nLast day to bring your colored back to the office. Pots will be displayed. Best 3 pots will win a prize. Pick up your pot on May 10 from 9 to 3 and your pot will be filled with a flower for mom!
URL:https://timberlakesutah.com/events/kids-clay-pot-contest-2/
END:VEVENT
END:VCALENDAR