BEGIN:VCALENDAR
VERSION:2.0
PRODID:-//Timber Lakes - ECPv6.15.20//NONSGML v1.0//EN
CALSCALE:GREGORIAN
METHOD:PUBLISH
X-WR-CALNAME:Timber Lakes
X-ORIGINAL-URL:https://timberlakesutah.com
X-WR-CALDESC:Events for Timber Lakes
REFRESH-INTERVAL;VALUE=DURATION:PT1H
X-Robots-Tag:noindex
X-PUBLISHED-TTL:PT1H
BEGIN:VTIMEZONE
TZID:America/Denver
BEGIN:DAYLIGHT
TZOFFSETFROM:-0700
TZOFFSETTO:-0600
TZNAME:MDT
DTSTART:20230312T090000
END:DAYLIGHT
BEGIN:STANDARD
TZOFFSETFROM:-0600
TZOFFSETTO:-0700
TZNAME:MST
DTSTART:20231105T080000
END:STANDARD
BEGIN:DAYLIGHT
TZOFFSETFROM:-0700
TZOFFSETTO:-0600
TZNAME:MDT
DTSTART:20240310T090000
END:DAYLIGHT
BEGIN:STANDARD
TZOFFSETFROM:-0600
TZOFFSETTO:-0700
TZNAME:MST
DTSTART:20241103T080000
END:STANDARD
BEGIN:DAYLIGHT
TZOFFSETFROM:-0700
TZOFFSETTO:-0600
TZNAME:MDT
DTSTART:20250309T090000
END:DAYLIGHT
BEGIN:STANDARD
TZOFFSETFROM:-0600
TZOFFSETTO:-0700
TZNAME:MST
DTSTART:20251102T080000
END:STANDARD
END:VTIMEZONE
BEGIN:VEVENT
DTSTART;TZID=America/Denver:20240311T080000
DTEND;TZID=America/Denver:20240315T170000
DTSTAMP:20260420T041939
CREATED:20240309T205811Z
LAST-MODIFIED:20240309T205811Z
UID:19138-1710144000-1710522000@timberlakesutah.com
SUMMARY:Food Drive
DESCRIPTION:Help us help others. Bring your canned\, dry\, or non-perishable donations to the Timber Lakes Office to benefit the Heber City Food Bank.
URL:https://timberlakesutah.com/events/food-drive/
END:VEVENT
BEGIN:VEVENT
DTSTART;TZID=America/Denver:20240330T090000
DTEND;TZID=America/Denver:20240330T110000
DTSTAMP:20260420T041939
CREATED:20240312T061741Z
LAST-MODIFIED:20240325T205925Z
UID:19143-1711789200-1711796400@timberlakesutah.com
SUMMARY:Easter Pancake Breakfast
DESCRIPTION:Come have pancakes\, hunt for eggs\, and meet the Easter Bunny at the Timber Lakes Fire House.
URL:https://timberlakesutah.com/events/easter-pancake-breakfast/
END:VEVENT
END:VCALENDAR