BEGIN:VCALENDAR
VERSION:2.0
PRODID:-//Timber Lakes - ECPv6.15.20//NONSGML v1.0//EN
CALSCALE:GREGORIAN
METHOD:PUBLISH
X-ORIGINAL-URL:https://timberlakesutah.com
X-WR-CALDESC:Events for Timber Lakes
REFRESH-INTERVAL;VALUE=DURATION:PT1H
X-Robots-Tag:noindex
X-PUBLISHED-TTL:PT1H
BEGIN:VTIMEZONE
TZID:America/Denver
BEGIN:DAYLIGHT
TZOFFSETFROM:-0700
TZOFFSETTO:-0600
TZNAME:MDT
DTSTART:20230312T090000
END:DAYLIGHT
BEGIN:STANDARD
TZOFFSETFROM:-0600
TZOFFSETTO:-0700
TZNAME:MST
DTSTART:20231105T080000
END:STANDARD
BEGIN:DAYLIGHT
TZOFFSETFROM:-0700
TZOFFSETTO:-0600
TZNAME:MDT
DTSTART:20240310T090000
END:DAYLIGHT
BEGIN:STANDARD
TZOFFSETFROM:-0600
TZOFFSETTO:-0700
TZNAME:MST
DTSTART:20241103T080000
END:STANDARD
BEGIN:DAYLIGHT
TZOFFSETFROM:-0700
TZOFFSETTO:-0600
TZNAME:MDT
DTSTART:20250309T090000
END:DAYLIGHT
BEGIN:STANDARD
TZOFFSETFROM:-0600
TZOFFSETTO:-0700
TZNAME:MST
DTSTART:20251102T080000
END:STANDARD
BEGIN:DAYLIGHT
TZOFFSETFROM:-0700
TZOFFSETTO:-0600
TZNAME:MDT
DTSTART:20260308T090000
END:DAYLIGHT
BEGIN:STANDARD
TZOFFSETFROM:-0600
TZOFFSETTO:-0700
TZNAME:MST
DTSTART:20261101T080000
END:STANDARD
BEGIN:DAYLIGHT
TZOFFSETFROM:-0700
TZOFFSETTO:-0600
TZNAME:MDT
DTSTART:20270314T090000
END:DAYLIGHT
BEGIN:STANDARD
TZOFFSETFROM:-0600
TZOFFSETTO:-0700
TZNAME:MST
DTSTART:20271107T080000
END:STANDARD
END:VTIMEZONE
BEGIN:VEVENT
DTSTART;VALUE=DATE:20241203
DTEND;VALUE=DATE:20241224
DTSTAMP:20260420T104701
CREATED:20241203T181609Z
LAST-MODIFIED:20241203T181609Z
UID:20930-1733184000-1734998399@timberlakesutah.com
SUMMARY:Santa's Mailbox
DESCRIPTION:Santa’s Mailbox is ready to receive children’s letters. It is located outside the office. If you put your child’s name\, age\, address and Lot # on the back of the envelope\, Santa will write back and his elves will deliver his response to your doorstep and leave it under the entry mat to await discovery. Santa’s mailbox will disappear December 23 at noon.
URL:https://timberlakesutah.com/events/santas-mailbox/
END:VEVENT
BEGIN:VEVENT
DTSTART;TZID=America/Denver:20241203T080000
DTEND;TZID=America/Denver:20241204T170000
DTSTAMP:20260420T104701
CREATED:20241203T223032Z
LAST-MODIFIED:20241203T223032Z
UID:20956-1733212800-1733331600@timberlakesutah.com
SUMMARY:Food Drive
DESCRIPTION:Please help Sun for Santa provide food bags for children in need in Wasatch County. 16-ounce plastic jars of peanut butter and boxes of 6 packets of microwave popcorn. Last day to drop off at the Timber Lakes Office is Wednesday\, December 4
URL:https://timberlakesutah.com/events/food-drive-2/
LOCATION:Timber Lakes Office
END:VEVENT
BEGIN:VEVENT
DTSTART;TZID=America/Denver:20241213T170000
DTEND;TZID=America/Denver:20241213T200000
DTSTAMP:20260420T104701
CREATED:20241121T203850Z
LAST-MODIFIED:20241203T045604Z
UID:20875-1734109200-1734120000@timberlakesutah.com
SUMMARY:Christmas Fun
DESCRIPTION:Santa and Mrs. Claus will greet children and have a craft kit for them to take home. We will have hot soups for everyone. Cookie decorations for the kids. A special 6 PM performance by our Wasatch High School Chamber Choir. Come ring in the holidays together.
URL:https://timberlakesutah.com/events/annual-christmas-event-2/
LOCATION:Timber Lakes Firehouse
END:VEVENT
BEGIN:VEVENT
DTSTART;TZID=America/Denver:20250115T190000
DTEND;TZID=America/Denver:20250115T203000
DTSTAMP:20260420T104701
CREATED:20241104T225847Z
LAST-MODIFIED:20241104T230413Z
UID:20646-1736967600-1736973000@timberlakesutah.com
SUMMARY:TLPOA Board Meeting
DESCRIPTION:All owners are invited to attend the public portion of the meeting via Zoom\, starting at 7 pm.
URL:https://timberlakesutah.com/events/tlpoa-board-meeting-25/
LOCATION:Zoom
END:VEVENT
BEGIN:VEVENT
DTSTART;TZID=America/Denver:20250215T093000
DTEND;TZID=America/Denver:20250215T113000
DTSTAMP:20260420T104701
CREATED:20250207T225522Z
LAST-MODIFIED:20250207T225522Z
UID:21503-1739611800-1739619000@timberlakesutah.com
SUMMARY:Snowmobile Easement & Coffee and Donuts
DESCRIPTION:Come to the Snowmobile Easement Entrance\, grab a coffee or hot cocoa and a donut\, learn about our snowmobile easement\, and take a short tour on your own snowmobile with some of our riders. NO SPACE FOR CARS\, so please come on your snowmobile.
URL:https://timberlakesutah.com/events/snowmobile-easement-coffee-and-donuts/
END:VEVENT
BEGIN:VEVENT
DTSTART;TZID=America/Denver:20250219T190000
DTEND;TZID=America/Denver:20250219T203000
DTSTAMP:20260420T104701
CREATED:20241104T225944Z
LAST-MODIFIED:20241104T225944Z
UID:20648-1739991600-1739997000@timberlakesutah.com
SUMMARY:TLPOA Board Meeting
DESCRIPTION:All owners are invited to attend the public portion of the meeting via Zoom\, starting at 7 pm.
URL:https://timberlakesutah.com/events/tlpoa-board-meeting-26/
LOCATION:Zoom
END:VEVENT
BEGIN:VEVENT
DTSTART;TZID=America/Denver:20250319T190000
DTEND;TZID=America/Denver:20250319T203000
DTSTAMP:20260420T104701
CREATED:20241104T230029Z
LAST-MODIFIED:20241104T230029Z
UID:20650-1742410800-1742416200@timberlakesutah.com
SUMMARY:TLPOA Board Meeting
DESCRIPTION:All owners are invited to attend the public portion of the meeting via Zoom\, starting at 7 pm.
URL:https://timberlakesutah.com/events/tlpoa-board-meeting-27/
LOCATION:Zoom
END:VEVENT
BEGIN:VEVENT
DTSTART;TZID=America/Denver:20250416T190000
DTEND;TZID=America/Denver:20250416T203000
DTSTAMP:20260420T104701
CREATED:20241104T230114Z
LAST-MODIFIED:20241104T230114Z
UID:20652-1744830000-1744835400@timberlakesutah.com
SUMMARY:TLPOA Board Meeting
DESCRIPTION:
URL:https://timberlakesutah.com/events/tlpoa-board-meeting-28/
LOCATION:Zoom
END:VEVENT
BEGIN:VEVENT
DTSTART;TZID=America/Denver:20250419T090000
DTEND;TZID=America/Denver:20250419T110000
DTSTAMP:20260420T104701
CREATED:20250220T023533Z
LAST-MODIFIED:20250417T204324Z
UID:21609-1745053200-1745060400@timberlakesutah.com
SUMMARY:Breakfast with the Easter Bunny
DESCRIPTION:What: Join us for the annual Easter Bunny Breakfast\nWhere: Timber Lakes Fire House\nWhy: Breakfast\, Pictures with the Easter Bunny\, Activities with prizes and crafts\, Meet your neighbors\, Have some fun
URL:https://timberlakesutah.com/events/breakfast-with-the-easter-bunny/
END:VEVENT
BEGIN:VEVENT
DTSTART;TZID=America/Denver:20250521T190000
DTEND;TZID=America/Denver:20250521T203000
DTSTAMP:20260420T104701
CREATED:20241104T230208Z
LAST-MODIFIED:20241104T230208Z
UID:20654-1747854000-1747859400@timberlakesutah.com
SUMMARY:TLPOA Board Meeting
DESCRIPTION:All owners are invited to attend the public portion of the meeting via Zoom\, starting at 7 pm.
URL:https://timberlakesutah.com/events/tlpoa-board-meeting-29/
LOCATION:Zoom
END:VEVENT
BEGIN:VEVENT
DTSTART;TZID=America/Denver:20250614T090000
DTEND;TZID=America/Denver:20250614T123000
DTSTAMP:20260420T104701
CREATED:20250522T030446Z
LAST-MODIFIED:20250522T031107Z
UID:22365-1749891600-1749904200@timberlakesutah.com
SUMMARY:Fire Safety/Yard Sale/Meet the Candidates
DESCRIPTION:Join us to learn about Fire Safety\, buy (or sell) at the Yard Sale\, and meet the candidates running for the Board.
URL:https://timberlakesutah.com/events/fire-safety-yard-sale-meet-the-candidates/
LOCATION:Lower Parking Lot by Package Shed
END:VEVENT
BEGIN:VEVENT
DTSTART;TZID=America/Denver:20250618T190000
DTEND;TZID=America/Denver:20250618T203000
DTSTAMP:20260420T104701
CREATED:20241104T230254Z
LAST-MODIFIED:20250531T181824Z
UID:20656-1750273200-1750278600@timberlakesutah.com
SUMMARY:TLPOA Board Meeting
DESCRIPTION:Owners are invited to attend the public portion of the meeting via Zoom\, starting at 7 pm.
URL:https://timberlakesutah.com/events/tlpoa-board-meeting-30/
LOCATION:Zoom
END:VEVENT
BEGIN:VEVENT
DTSTART;TZID=America/Denver:20250621T080000
DTEND;TZID=America/Denver:20250621T130000
DTSTAMP:20260420T104701
CREATED:20250619T000053Z
LAST-MODIFIED:20250619T000053Z
UID:22703-1750492800-1750510800@timberlakesutah.com
SUMMARY:Chip Loading
DESCRIPTION:Our annual chip loading day is Saturday\, June 21st from 8am – 1pm. We will have road crew members at the Jones Lake chip pile to load trucks\, trailers\,etc. If you are planning on getting chips this summer and would like us to load them for you\, come grab as much as you need.
URL:https://timberlakesutah.com/events/chip-loading/
END:VEVENT
BEGIN:VEVENT
DTSTART;TZID=America/Denver:20250628T120000
DTEND;TZID=America/Denver:20250628T160000
DTSTAMP:20260420T104701
CREATED:20250617T200414Z
LAST-MODIFIED:20250617T200515Z
UID:22677-1751112000-1751126400@timberlakesutah.com
SUMMARY:Art Festival
DESCRIPTION:Join us for another annual Timber Lakes Art Festival. Venders\, music\, food\, crafts for the kids. Come meet new neighbors\, reconnect with old friends\, find out what a cool community we call home.
URL:https://timberlakesutah.com/events/art-festival/
LOCATION:Lower Parking Lot by Package Shed
END:VEVENT
BEGIN:VEVENT
DTSTART;TZID=America/Denver:20250719T100000
DTEND;TZID=America/Denver:20250719T120000
DTSTAMP:20260420T104701
CREATED:20250522T030839Z
LAST-MODIFIED:20250522T030906Z
UID:22370-1752919200-1752926400@timberlakesutah.com
SUMMARY:TLPOA Annual Meeting
DESCRIPTION:The Annual Meeting will be held on Zoom. Please join us to elect three board members and enjoy other amazing things.
URL:https://timberlakesutah.com/events/annual-tlpoa-meeting/
LOCATION:Zoom
END:VEVENT
BEGIN:VEVENT
DTSTART;TZID=America/Denver:20250820T190000
DTEND;TZID=America/Denver:20250820T203000
DTSTAMP:20260420T104701
CREATED:20250531T181157Z
LAST-MODIFIED:20250531T181157Z
UID:22464-1755716400-1755721800@timberlakesutah.com
SUMMARY:TLPOA Board Meeting
DESCRIPTION:Owners are invited to attend the public portion of the meeting via Zoom\, starting at 7 pm.
URL:https://timberlakesutah.com/events/tlpoa-board-meeting-31/
LOCATION:Zoom
END:VEVENT
BEGIN:VEVENT
DTSTART;TZID=America/Denver:20250917T190000
DTEND;TZID=America/Denver:20250917T203000
DTSTAMP:20260420T104701
CREATED:20250531T181408Z
LAST-MODIFIED:20250531T181408Z
UID:22468-1758135600-1758141000@timberlakesutah.com
SUMMARY:TLPOA Board Meeting
DESCRIPTION:Owners are invited to attend the public portion of the meeting via Zoom\, starting at 7 pm.
URL:https://timberlakesutah.com/events/tlpoa-board-meeting-32/
LOCATION:Zoom
END:VEVENT
BEGIN:VEVENT
DTSTART;TZID=America/Denver:20251011T090000
DTEND;TZID=America/Denver:20251011T160000
DTSTAMP:20260420T104701
CREATED:20251003T223803Z
LAST-MODIFIED:20251003T223803Z
UID:23334-1760173200-1760198400@timberlakesutah.com
SUMMARY:Fire Fuel Reduction Project
DESCRIPTION:Meet us at Jones Lake\, bring your saw/splitter and help us cut and stack wood for our residents. Stay as long as you can. Let Dewitt Smith (801) 631-9648 know you are coming and what you are bringing. Snacks and water provided.
URL:https://timberlakesutah.com/events/fire-fuel-reduction-project/
LOCATION:Jones Lake
END:VEVENT
BEGIN:VEVENT
DTSTART;TZID=America/Denver:20251015T190000
DTEND;TZID=America/Denver:20251015T203000
DTSTAMP:20260420T104701
CREATED:20250531T181559Z
LAST-MODIFIED:20250531T181559Z
UID:22470-1760554800-1760560200@timberlakesutah.com
SUMMARY:TLPOA Board Meeting
DESCRIPTION:Owners are invited to attend the public portion of the meeting via Zoom\, starting at 7 pm.
URL:https://timberlakesutah.com/events/tlpoa-board-meeting-33/
LOCATION:Zoom
END:VEVENT
BEGIN:VEVENT
DTSTART;TZID=America/Denver:20251025T120000
DTEND;TZID=America/Denver:20251025T160000
DTSTAMP:20260420T104701
CREATED:20251007T174635Z
LAST-MODIFIED:20251007T175548Z
UID:23370-1761393600-1761408000@timberlakesutah.com
SUMMARY:Fall Festival Part 1
DESCRIPTION:Vendors on site\, Chili Cook Off
URL:https://timberlakesutah.com/events/fall-festival-3/
LOCATION:Timber Lakes Firehouse
END:VEVENT
BEGIN:VEVENT
DTSTART;TZID=America/Denver:20251025T170000
DTEND;TZID=America/Denver:20251025T183000
DTSTAMP:20260420T104701
CREATED:20251007T175652Z
LAST-MODIFIED:20251020T180349Z
UID:23395-1761411600-1761417000@timberlakesutah.com
SUMMARY:Fall Festival Part 2
DESCRIPTION:Trunk or Treat
URL:https://timberlakesutah.com/events/fall-festival-part-2/
LOCATION:Lower Parking Lot by Package Shed
END:VEVENT
BEGIN:VEVENT
DTSTART;TZID=America/Denver:20251119T190000
DTEND;TZID=America/Denver:20251119T203000
DTSTAMP:20260420T104701
CREATED:20250531T181709Z
LAST-MODIFIED:20250531T181709Z
UID:22472-1763578800-1763584200@timberlakesutah.com
SUMMARY:TLPOA Board Meeting
DESCRIPTION:Owners are invited to attend the public portion of the meeting via Zoom\, starting at 7 pm.
URL:https://timberlakesutah.com/events/tlpoa-board-meeting-34/
LOCATION:Zoom
END:VEVENT
BEGIN:VEVENT
DTSTART;TZID=America/Denver:20251212T170000
DTEND;TZID=America/Denver:20251212T193000
DTSTAMP:20260420T104701
CREATED:20251208T231053Z
LAST-MODIFIED:20251208T231053Z
UID:23689-1765558800-1765567800@timberlakesutah.com
SUMMARY:Meet Santa and Mrs. Claus and the Grinch
DESCRIPTION:
URL:https://timberlakesutah.com/events/meet-santa-and-mrs-claus-and-the-grinch/
LOCATION:Timber Lakes Firehouse
END:VEVENT
BEGIN:VEVENT
DTSTART;TZID=America/Denver:20260121T190000
DTEND;TZID=America/Denver:20260121T203000
DTSTAMP:20260420T104701
CREATED:20251213T182247Z
LAST-MODIFIED:20251213T182247Z
UID:23741-1769022000-1769027400@timberlakesutah.com
SUMMARY:TLPOA Board Meeting
DESCRIPTION:Owners are invited to attend the public portion of the meeting via Zoom\, starting at 7 pm.
URL:https://timberlakesutah.com/events/tlpoa-board-meeting-35/
LOCATION:Zoom
END:VEVENT
BEGIN:VEVENT
DTSTART;TZID=America/Denver:20260218T190000
DTEND;TZID=America/Denver:20260218T203000
DTSTAMP:20260420T104701
CREATED:20260212T160938Z
LAST-MODIFIED:20260212T160938Z
UID:24147-1771441200-1771446600@timberlakesutah.com
SUMMARY:TLPOA Board Meeting
DESCRIPTION:Owners are invited to attend the public portion of the meeting via Zoom\, starting at 7 pm.
URL:https://timberlakesutah.com/events/tlpoa-board-meeting-36/
LOCATION:Zoom
END:VEVENT
BEGIN:VEVENT
DTSTART;TZID=America/Denver:20260318T190000
DTEND;TZID=America/Denver:20260318T203000
DTSTAMP:20260420T104701
CREATED:20260212T161047Z
LAST-MODIFIED:20260212T161047Z
UID:24154-1773860400-1773865800@timberlakesutah.com
SUMMARY:TLPOA Board Meeting
DESCRIPTION:Owners are invited to attend the public portion of the meeting via Zoom\, starting at 7 pm.
URL:https://timberlakesutah.com/events/tlpoa-board-meeting-37/
LOCATION:Zoom
END:VEVENT
BEGIN:VEVENT
DTSTART;TZID=America/Denver:20260404T090000
DTEND;TZID=America/Denver:20260404T110000
DTSTAMP:20260420T104701
CREATED:20260323T215529Z
LAST-MODIFIED:20260323T215529Z
UID:24345-1775293200-1775300400@timberlakesutah.com
SUMMARY:Breakfast with the Easter Bunny
DESCRIPTION:Join us for family fun with Easter Bunny photos\, gifts for the kids\, and our classic guessing game with cool prizes.
URL:https://timberlakesutah.com/events/breakfast-with-the-easter-bunny-2/
LOCATION:Timber Lakes Firehouse
END:VEVENT
BEGIN:VEVENT
DTSTART;TZID=America/Denver:20260418T100000
DTEND;TZID=America/Denver:20260418T130000
DTSTAMP:20260420T104701
CREATED:20260407T203722Z
LAST-MODIFIED:20260407T203722Z
UID:24425-1776506400-1776517200@timberlakesutah.com
SUMMARY:Family Training Day with our First Responders
DESCRIPTION:Come train with our first responders on April 18! \nWe will have interactive sessions for both kids and adults. This will be fun day\, while learning lifelong and life-saving skills. \nWe will also provide snacks and hold a raffle with cool prizes.
URL:https://timberlakesutah.com/events/family-training-day-with-our-first-responders/
LOCATION:Timber Lakes Firehouse
END:VEVENT
BEGIN:VEVENT
DTSTART;TZID=America/Denver:20260422T190000
DTEND;TZID=America/Denver:20260422T203000
DTSTAMP:20260420T104701
CREATED:20260212T161149Z
LAST-MODIFIED:20260227T194524Z
UID:24156-1776884400-1776889800@timberlakesutah.com
SUMMARY:TLPOA Board Meeting
DESCRIPTION:Owners are invited to attend the public portion of the meeting via Zoom\, starting at 7 pm.
URL:https://timberlakesutah.com/events/tlpoa-board-meeting-38/
LOCATION:Zoom
END:VEVENT
BEGIN:VEVENT
DTSTART;TZID=America/Denver:20260520T190000
DTEND;TZID=America/Denver:20260520T203000
DTSTAMP:20260420T104701
CREATED:20260212T161238Z
LAST-MODIFIED:20260212T161238Z
UID:24158-1779303600-1779309000@timberlakesutah.com
SUMMARY:TLPOA Board Meeting
DESCRIPTION:Owners are invited to attend the public portion of the meeting via Zoom\, starting at 7 pm.
URL:https://timberlakesutah.com/events/tlpoa-board-meeting-39/
LOCATION:Zoom
END:VEVENT
END:VCALENDAR