BEGIN:VCALENDAR
VERSION:2.0
PRODID:-//Timber Lakes - ECPv6.15.20//NONSGML v1.0//EN
CALSCALE:GREGORIAN
METHOD:PUBLISH
X-WR-CALNAME:Timber Lakes
X-ORIGINAL-URL:https://timberlakesutah.com
X-WR-CALDESC:Events for Timber Lakes
REFRESH-INTERVAL;VALUE=DURATION:PT1H
X-Robots-Tag:noindex
X-PUBLISHED-TTL:PT1H
BEGIN:VTIMEZONE
TZID:America/Denver
BEGIN:DAYLIGHT
TZOFFSETFROM:-0700
TZOFFSETTO:-0600
TZNAME:MDT
DTSTART:20240310T090000
END:DAYLIGHT
BEGIN:STANDARD
TZOFFSETFROM:-0600
TZOFFSETTO:-0700
TZNAME:MST
DTSTART:20241103T080000
END:STANDARD
BEGIN:DAYLIGHT
TZOFFSETFROM:-0700
TZOFFSETTO:-0600
TZNAME:MDT
DTSTART:20250309T090000
END:DAYLIGHT
BEGIN:STANDARD
TZOFFSETFROM:-0600
TZOFFSETTO:-0700
TZNAME:MST
DTSTART:20251102T080000
END:STANDARD
BEGIN:DAYLIGHT
TZOFFSETFROM:-0700
TZOFFSETTO:-0600
TZNAME:MDT
DTSTART:20260308T090000
END:DAYLIGHT
BEGIN:STANDARD
TZOFFSETFROM:-0600
TZOFFSETTO:-0700
TZNAME:MST
DTSTART:20261101T080000
END:STANDARD
END:VTIMEZONE
BEGIN:VEVENT
DTSTART;TZID=America/Denver:20250621T080000
DTEND;TZID=America/Denver:20250621T130000
DTSTAMP:20260420T042007
CREATED:20250619T000053Z
LAST-MODIFIED:20250619T000053Z
UID:22703-1750492800-1750510800@timberlakesutah.com
SUMMARY:Chip Loading
DESCRIPTION:Our annual chip loading day is Saturday\, June 21st from 8am – 1pm. We will have road crew members at the Jones Lake chip pile to load trucks\, trailers\,etc. If you are planning on getting chips this summer and would like us to load them for you\, come grab as much as you need.
URL:https://timberlakesutah.com/events/chip-loading/
END:VEVENT
END:VCALENDAR