BEGIN:VCALENDAR
VERSION:2.0
PRODID:-//Timber Lakes - ECPv6.15.20//NONSGML v1.0//EN
CALSCALE:GREGORIAN
METHOD:PUBLISH
X-ORIGINAL-URL:https://timberlakesutah.com
X-WR-CALDESC:Events for Timber Lakes
REFRESH-INTERVAL;VALUE=DURATION:PT1H
X-Robots-Tag:noindex
X-PUBLISHED-TTL:PT1H
BEGIN:VTIMEZONE
TZID:America/Denver
BEGIN:DAYLIGHT
TZOFFSETFROM:-0700
TZOFFSETTO:-0600
TZNAME:MDT
DTSTART:20230312T090000
END:DAYLIGHT
BEGIN:STANDARD
TZOFFSETFROM:-0600
TZOFFSETTO:-0700
TZNAME:MST
DTSTART:20231105T080000
END:STANDARD
BEGIN:DAYLIGHT
TZOFFSETFROM:-0700
TZOFFSETTO:-0600
TZNAME:MDT
DTSTART:20240310T090000
END:DAYLIGHT
BEGIN:STANDARD
TZOFFSETFROM:-0600
TZOFFSETTO:-0700
TZNAME:MST
DTSTART:20241103T080000
END:STANDARD
BEGIN:DAYLIGHT
TZOFFSETFROM:-0700
TZOFFSETTO:-0600
TZNAME:MDT
DTSTART:20250309T090000
END:DAYLIGHT
BEGIN:STANDARD
TZOFFSETFROM:-0600
TZOFFSETTO:-0700
TZNAME:MST
DTSTART:20251102T080000
END:STANDARD
END:VTIMEZONE
BEGIN:VEVENT
DTSTART;TZID=America/Denver:20240608T090000
DTEND;TZID=America/Denver:20240608T130000
DTSTAMP:20260420T054952
CREATED:20240517T003835Z
LAST-MODIFIED:20240517T003835Z
UID:19328-1717837200-1717851600@timberlakesutah.com
SUMMARY:Timber Lakes Community Yard Sale
DESCRIPTION:Spaces are first come\, first served. Rain or shine. You must take your left over items back home. Please have cash for making purchases or change. Online transactions will not likely work due to poor phone reception in the area.\nNO DISPOSAL IN OUR DUMPSTERS.\nOne or two trailers will be available at 1 PM for items you want taken to the landfill for $20 per household. No dangerous materials or tires. We will take appliances.
URL:https://timberlakesutah.com/events/timber-lakes-community-yard-sale/
LOCATION:Lower Parking Lot by Package Shed
END:VEVENT
END:VCALENDAR